﻿BEGIN:VCALENDAR
VERSION:2.0
PRODID:-//Maple Ridge - Pitt Meadows School District 42 - ECPv6.15.15//NONSGML v1.0//EN
CALSCALE:GREGORIAN
METHOD:PUBLISH
X-WR-CALNAME:Maple Ridge - Pitt Meadows School District 42
X-ORIGINAL-URL:https://www.sd42.ca
X-WR-CALDESC:Events for Maple Ridge - Pitt Meadows School District 42
REFRESH-INTERVAL;VALUE=DURATION:PT1H
X-Robots-Tag:noindex
X-PUBLISHED-TTL:PT1H
BEGIN:VTIMEZONE
TZID:America/Vancouver
BEGIN:DAYLIGHT
TZOFFSETFROM:-0800
TZOFFSETTO:-0700
TZNAME:PDT
DTSTART:20240310T100000
END:DAYLIGHT
BEGIN:STANDARD
TZOFFSETFROM:-0700
TZOFFSETTO:-0800
TZNAME:PST
DTSTART:20241103T090000
END:STANDARD
BEGIN:DAYLIGHT
TZOFFSETFROM:-0800
TZOFFSETTO:-0700
TZNAME:PDT
DTSTART:20250309T100000
END:DAYLIGHT
BEGIN:STANDARD
TZOFFSETFROM:-0700
TZOFFSETTO:-0800
TZNAME:PST
DTSTART:20251102T090000
END:STANDARD
BEGIN:DAYLIGHT
TZOFFSETFROM:-0800
TZOFFSETTO:-0700
TZNAME:PDT
DTSTART:20260308T100000
END:DAYLIGHT
BEGIN:STANDARD
TZOFFSETFROM:-0700
TZOFFSETTO:-0800
TZNAME:PST
DTSTART:20261101T090000
END:STANDARD
END:VTIMEZONE
BEGIN:VEVENT
DTSTART;VALUE=DATE:20250902
DTEND;VALUE=DATE:20250903
DTSTAMP:20260421T201252
CREATED:20241108T193709Z
LAST-MODIFIED:20241108T193709Z
UID:17797-1756771200-1756857599@www.sd42.ca
SUMMARY:Opening day for students
DESCRIPTION:Schools open following summer break. 
URL:https://www.sd42.ca/upcoming-events/opening-day-for-students-9/
CATEGORIES:School Calendar
END:VEVENT
BEGIN:VEVENT
DTSTART;TZID=America/Vancouver:20250917T180000
DTEND;TZID=America/Vancouver:20250917T210000
DTSTAMP:20260421T201252
CREATED:20250826T170043Z
LAST-MODIFIED:20250826T170043Z
UID:19321-1758132000-1758142800@www.sd42.ca
SUMMARY:Board of Education meeting
DESCRIPTION:Agenda packages for public board meetings are posted on the Monday before the meeting at https://www.sd42.ca/board-of-education/board-meeting-agendas/\n 
URL:https://www.sd42.ca/upcoming-events/board-of-education-meeting-100/
CATEGORIES:Board of Education Meeting
END:VEVENT
BEGIN:VEVENT
DTSTART;VALUE=DATE:20250919
DTEND;VALUE=DATE:20250920
DTSTAMP:20260421T201252
CREATED:20241205T012707Z
LAST-MODIFIED:20241205T012707Z
UID:18013-1758240000-1758326399@www.sd42.ca
SUMMARY:Kindergarten registration: Open phase ends
DESCRIPTION:Open registration phase takes place between August 20\, 2025\, and September 19\, 2025\, and is for parents/guardians who missed previous registration phases. \nMore information: https://www.sd42.ca/kindergarten-registration/
URL:https://www.sd42.ca/upcoming-events/kindergarten-registration-open-phase/
CATEGORIES:District Event
END:VEVENT
BEGIN:VEVENT
DTSTART;VALUE=DATE:20250930
DTEND;VALUE=DATE:20251001
DTSTAMP:20260421T201252
CREATED:20241108T193958Z
LAST-MODIFIED:20241108T193958Z
UID:17798-1759190400-1759276799@www.sd42.ca
SUMMARY:National Day for Truth and Reconciliation
DESCRIPTION:Statutory holiday. Schools are not in session.
URL:https://www.sd42.ca/upcoming-events/national-day-for-truth-and-reconciliation-2/
CATEGORIES:Statutory Holiday
END:VEVENT
END:VCALENDAR