﻿BEGIN:VCALENDAR
VERSION:2.0
PRODID:-//Maple Ridge - Pitt Meadows School District 42 - ECPv6.15.15//NONSGML v1.0//EN
CALSCALE:GREGORIAN
METHOD:PUBLISH
X-ORIGINAL-URL:https://www.sd42.ca
X-WR-CALDESC:Events for Maple Ridge - Pitt Meadows School District 42
REFRESH-INTERVAL;VALUE=DURATION:PT1H
X-Robots-Tag:noindex
X-PUBLISHED-TTL:PT1H
BEGIN:VTIMEZONE
TZID:America/Vancouver
BEGIN:DAYLIGHT
TZOFFSETFROM:-0800
TZOFFSETTO:-0700
TZNAME:PDT
DTSTART:20230312T100000
END:DAYLIGHT
BEGIN:STANDARD
TZOFFSETFROM:-0700
TZOFFSETTO:-0800
TZNAME:PST
DTSTART:20231105T090000
END:STANDARD
BEGIN:DAYLIGHT
TZOFFSETFROM:-0800
TZOFFSETTO:-0700
TZNAME:PDT
DTSTART:20240310T100000
END:DAYLIGHT
BEGIN:STANDARD
TZOFFSETFROM:-0700
TZOFFSETTO:-0800
TZNAME:PST
DTSTART:20241103T090000
END:STANDARD
BEGIN:DAYLIGHT
TZOFFSETFROM:-0800
TZOFFSETTO:-0700
TZNAME:PDT
DTSTART:20250309T100000
END:DAYLIGHT
BEGIN:STANDARD
TZOFFSETFROM:-0700
TZOFFSETTO:-0800
TZNAME:PST
DTSTART:20251102T090000
END:STANDARD
END:VTIMEZONE
BEGIN:VEVENT
DTSTART;VALUE=DATE:20241111
DTEND;VALUE=DATE:20241112
DTSTAMP:20260419T035140
CREATED:20240418T225021Z
LAST-MODIFIED:20240418T225021Z
UID:16498-1731283200-1731369599@www.sd42.ca
SUMMARY:Remembrance Day
DESCRIPTION:Statutory holiday. Schools not in session.
URL:https://www.sd42.ca/upcoming-events/remembrance-day-9/
CATEGORIES:School Calendar
END:VEVENT
BEGIN:VEVENT
DTSTART;VALUE=DATE:20241112
DTEND;VALUE=DATE:20241113
DTSTAMP:20260419T035140
CREATED:20240418T225119Z
LAST-MODIFIED:20240418T225119Z
UID:16499-1731369600-1731455999@www.sd42.ca
SUMMARY:Non-instructional day (school-based)
DESCRIPTION:Schools not in session.
URL:https://www.sd42.ca/upcoming-events/non-instructional-day-school-based-11/
CATEGORIES:School Calendar
END:VEVENT
BEGIN:VEVENT
DTSTART;TZID=America/Vancouver:20241113T180000
DTEND;TZID=America/Vancouver:20241113T210000
DTSTAMP:20260419T035140
CREATED:20240829T221635Z
LAST-MODIFIED:20240829T221635Z
UID:17322-1731520800-1731531600@www.sd42.ca
SUMMARY:Board of Education meeting
DESCRIPTION:Agenda packages for public board meetings are posted on the Monday before the meeting at https://www.sd42.ca/board-of-education/board-meeting-agendas/
URL:https://www.sd42.ca/upcoming-events/board-of-education-meeting-92/
CATEGORIES:Board of Education Meeting
END:VEVENT
END:VCALENDAR