﻿BEGIN:VCALENDAR
VERSION:2.0
PRODID:-//Maple Ridge - Pitt Meadows School District 42 - ECPv6.15.15//NONSGML v1.0//EN
CALSCALE:GREGORIAN
METHOD:PUBLISH
X-WR-CALNAME:Maple Ridge - Pitt Meadows School District 42
X-ORIGINAL-URL:https://www.sd42.ca
X-WR-CALDESC:Events for Maple Ridge - Pitt Meadows School District 42
REFRESH-INTERVAL;VALUE=DURATION:PT1H
X-Robots-Tag:noindex
X-PUBLISHED-TTL:PT1H
BEGIN:VTIMEZONE
TZID:America/Vancouver
BEGIN:DAYLIGHT
TZOFFSETFROM:-0800
TZOFFSETTO:-0700
TZNAME:PDT
DTSTART:20230312T100000
END:DAYLIGHT
BEGIN:STANDARD
TZOFFSETFROM:-0700
TZOFFSETTO:-0800
TZNAME:PST
DTSTART:20231105T090000
END:STANDARD
BEGIN:DAYLIGHT
TZOFFSETFROM:-0800
TZOFFSETTO:-0700
TZNAME:PDT
DTSTART:20240310T100000
END:DAYLIGHT
BEGIN:STANDARD
TZOFFSETFROM:-0700
TZOFFSETTO:-0800
TZNAME:PST
DTSTART:20241103T090000
END:STANDARD
BEGIN:DAYLIGHT
TZOFFSETFROM:-0800
TZOFFSETTO:-0700
TZNAME:PDT
DTSTART:20250309T100000
END:DAYLIGHT
BEGIN:STANDARD
TZOFFSETFROM:-0700
TZOFFSETTO:-0800
TZNAME:PST
DTSTART:20251102T090000
END:STANDARD
END:VTIMEZONE
BEGIN:VEVENT
DTSTART;TZID=America/Vancouver:20240501T180000
DTEND;TZID=America/Vancouver:20240501T210000
DTSTAMP:20260420T191107
CREATED:20230629T213824Z
LAST-MODIFIED:20231010T175943Z
UID:15155-1714586400-1714597200@www.sd42.ca
SUMMARY:Board of Education meeting
DESCRIPTION:Agenda packages for public board meetings are posted on the Monday before the meeting at https://www.sd42.ca/board-of-education/board-meeting-agendas/.
URL:https://www.sd42.ca/upcoming-events/board-of-education-meeting-86/
CATEGORIES:Board of Education Meeting
END:VEVENT
BEGIN:VEVENT
DTSTART;VALUE=DATE:20240515
DTEND;VALUE=DATE:20240516
DTSTAMP:20260420T191107
CREATED:20230629T212824Z
LAST-MODIFIED:20230629T212824Z
UID:15144-1715731200-1715817599@www.sd42.ca
SUMMARY:Non-instructional day (district-based)
DESCRIPTION:Schools not in session.
URL:https://www.sd42.ca/upcoming-events/non-instructional-day-district-based-6/
CATEGORIES:Non-Instructional Day,School Calendar
END:VEVENT
BEGIN:VEVENT
DTSTART;TZID=America/Vancouver:20240515T180000
DTEND;TZID=America/Vancouver:20240515T210000
DTSTAMP:20260420T191107
CREATED:20230629T213933Z
LAST-MODIFIED:20230629T213933Z
UID:15157-1715796000-1715806800@www.sd42.ca
SUMMARY:Board of Education meeting
DESCRIPTION:Agenda packages for public board meetings are posted on the Monday before the meeting at https://www.sd42.ca/board-of-education/board-meeting-agendas/.
URL:https://www.sd42.ca/upcoming-events/board-of-education-meeting-88/
CATEGORIES:Board of Education Meeting
END:VEVENT
BEGIN:VEVENT
DTSTART;VALUE=DATE:20240520
DTEND;VALUE=DATE:20240521
DTSTAMP:20260420T191107
CREATED:20230629T212934Z
LAST-MODIFIED:20230629T212934Z
UID:15145-1716163200-1716249599@www.sd42.ca
SUMMARY:Victoria Day
DESCRIPTION:Statutory holiday. Schools not in session.
URL:https://www.sd42.ca/upcoming-events/victoria-day-8/
CATEGORIES:School Calendar,Statutory Holiday
END:VEVENT
END:VCALENDAR