﻿BEGIN:VCALENDAR
VERSION:2.0
PRODID:-//Maple Ridge - Pitt Meadows School District 42 - ECPv6.15.15//NONSGML v1.0//EN
CALSCALE:GREGORIAN
METHOD:PUBLISH
X-WR-CALNAME:Maple Ridge - Pitt Meadows School District 42
X-ORIGINAL-URL:https://www.sd42.ca
X-WR-CALDESC:Events for Maple Ridge - Pitt Meadows School District 42
REFRESH-INTERVAL;VALUE=DURATION:PT1H
X-Robots-Tag:noindex
X-PUBLISHED-TTL:PT1H
BEGIN:VTIMEZONE
TZID:America/Vancouver
BEGIN:DAYLIGHT
TZOFFSETFROM:-0800
TZOFFSETTO:-0700
TZNAME:PDT
DTSTART:20230312T100000
END:DAYLIGHT
BEGIN:STANDARD
TZOFFSETFROM:-0700
TZOFFSETTO:-0800
TZNAME:PST
DTSTART:20231105T090000
END:STANDARD
BEGIN:DAYLIGHT
TZOFFSETFROM:-0800
TZOFFSETTO:-0700
TZNAME:PDT
DTSTART:20240310T100000
END:DAYLIGHT
BEGIN:STANDARD
TZOFFSETFROM:-0700
TZOFFSETTO:-0800
TZNAME:PST
DTSTART:20241103T090000
END:STANDARD
BEGIN:DAYLIGHT
TZOFFSETFROM:-0800
TZOFFSETTO:-0700
TZNAME:PDT
DTSTART:20250309T100000
END:DAYLIGHT
BEGIN:STANDARD
TZOFFSETFROM:-0700
TZOFFSETTO:-0800
TZNAME:PST
DTSTART:20251102T090000
END:STANDARD
END:VTIMEZONE
BEGIN:VEVENT
DTSTART;TZID=America/Vancouver:20240306T180000
DTEND;TZID=America/Vancouver:20240306T210000
DTSTAMP:20260420T191107
CREATED:20230629T213747Z
LAST-MODIFIED:20230629T213747Z
UID:15154-1709748000-1709758800@www.sd42.ca
SUMMARY:Board of Education meeting
DESCRIPTION:Agenda packages for public board meetings are posted on the Monday before the meeting at https://www.sd42.ca/board-of-education/board-meeting-agendas/.
URL:https://www.sd42.ca/upcoming-events/board-of-education-meeting-85/
CATEGORIES:Board of Education Meeting
END:VEVENT
BEGIN:VEVENT
DTSTART;VALUE=DATE:20240315
DTEND;VALUE=DATE:20240316
DTSTAMP:20260420T191107
CREATED:20230629T212402Z
LAST-MODIFIED:20230629T212402Z
UID:15138-1710460800-1710547199@www.sd42.ca
SUMMARY:Last day of school before break
DESCRIPTION:Last day of school before break.
URL:https://www.sd42.ca/upcoming-events/last-day-of-school-before-break-2/
CATEGORIES:School Calendar
END:VEVENT
BEGIN:VEVENT
DTSTART;VALUE=DATE:20240318
DTEND;VALUE=DATE:20240323
DTSTAMP:20260420T191107
CREATED:20230629T212447Z
LAST-MODIFIED:20230629T212447Z
UID:15139-1710720000-1711151999@www.sd42.ca
SUMMARY:Spring break
DESCRIPTION:Schools not in session
URL:https://www.sd42.ca/upcoming-events/spring-break-4/
CATEGORIES:Holidays,School Calendar
END:VEVENT
BEGIN:VEVENT
DTSTART;VALUE=DATE:20240325
DTEND;VALUE=DATE:20240329
DTSTAMP:20260420T191107
CREATED:20230629T212531Z
LAST-MODIFIED:20230629T212531Z
UID:15140-1711324800-1711670399@www.sd42.ca
SUMMARY:Schools not in session
DESCRIPTION:Schools not in session.
URL:https://www.sd42.ca/upcoming-events/schools-not-in-session-7/
CATEGORIES:Holidays,School Calendar
END:VEVENT
BEGIN:VEVENT
DTSTART;VALUE=DATE:20240329
DTEND;VALUE=DATE:20240330
DTSTAMP:20260420T191107
CREATED:20230629T212628Z
LAST-MODIFIED:20230629T212628Z
UID:15141-1711670400-1711756799@www.sd42.ca
SUMMARY:Good Friday
DESCRIPTION:Schools closed for statutory holiday.
URL:https://www.sd42.ca/upcoming-events/good-friday-8/
CATEGORIES:School Calendar,Statutory Holiday
END:VEVENT
END:VCALENDAR