﻿BEGIN:VCALENDAR
VERSION:2.0
PRODID:-//Maple Ridge - Pitt Meadows School District 42 - ECPv6.15.15//NONSGML v1.0//EN
CALSCALE:GREGORIAN
METHOD:PUBLISH
X-WR-CALNAME:Maple Ridge - Pitt Meadows School District 42
X-ORIGINAL-URL:https://www.sd42.ca
X-WR-CALDESC:Events for Maple Ridge - Pitt Meadows School District 42
REFRESH-INTERVAL;VALUE=DURATION:PT1H
X-Robots-Tag:noindex
X-PUBLISHED-TTL:PT1H
BEGIN:VTIMEZONE
TZID:America/Vancouver
BEGIN:DAYLIGHT
TZOFFSETFROM:-0800
TZOFFSETTO:-0700
TZNAME:PDT
DTSTART:20220313T100000
END:DAYLIGHT
BEGIN:STANDARD
TZOFFSETFROM:-0700
TZOFFSETTO:-0800
TZNAME:PST
DTSTART:20221106T090000
END:STANDARD
BEGIN:DAYLIGHT
TZOFFSETFROM:-0800
TZOFFSETTO:-0700
TZNAME:PDT
DTSTART:20230312T100000
END:DAYLIGHT
BEGIN:STANDARD
TZOFFSETFROM:-0700
TZOFFSETTO:-0800
TZNAME:PST
DTSTART:20231105T090000
END:STANDARD
BEGIN:DAYLIGHT
TZOFFSETFROM:-0800
TZOFFSETTO:-0700
TZNAME:PDT
DTSTART:20240310T100000
END:DAYLIGHT
BEGIN:STANDARD
TZOFFSETFROM:-0700
TZOFFSETTO:-0800
TZNAME:PST
DTSTART:20241103T090000
END:STANDARD
BEGIN:DAYLIGHT
TZOFFSETFROM:-0800
TZOFFSETTO:-0700
TZNAME:PDT
DTSTART:20250309T100000
END:DAYLIGHT
BEGIN:STANDARD
TZOFFSETFROM:-0700
TZOFFSETTO:-0800
TZNAME:PST
DTSTART:20251102T090000
END:STANDARD
END:VTIMEZONE
BEGIN:VEVENT
DTSTART;TZID=America/Vancouver:20231206T180000
DTEND;TZID=America/Vancouver:20231206T210000
DTSTAMP:20260421T215453
CREATED:20230629T213604Z
LAST-MODIFIED:20231207T020254Z
UID:15151-1701885600-1701896400@www.sd42.ca
SUMMARY:Board of Education meeting (virtual)
DESCRIPTION:Agenda packages for public board meetings are posted on the Monday before the meeting at https://www.sd42.ca/board-of-education/board-meeting-agendas/. \nThe December 6\, 2023\, public meeting of the board will take place virtually and be streamed live on the SD42 YouTube channel.
URL:https://www.sd42.ca/upcoming-events/board-of-education-meeting-82/
CATEGORIES:Board of Education Meeting
END:VEVENT
BEGIN:VEVENT
DTSTART;VALUE=DATE:20231222
DTEND;VALUE=DATE:20231223
DTSTAMP:20260421T215453
CREATED:20230629T211844Z
LAST-MODIFIED:20230629T211844Z
UID:15132-1703203200-1703289599@www.sd42.ca
SUMMARY:Last day of school before winter break
DESCRIPTION:Last day of school before winter break
URL:https://www.sd42.ca/upcoming-events/last-day-of-school-before-winter-break-2/
CATEGORIES:School Calendar
END:VEVENT
BEGIN:VEVENT
DTSTART;VALUE=DATE:20231225
DTEND;VALUE=DATE:20240106
DTSTAMP:20260421T215453
CREATED:20230629T211952Z
LAST-MODIFIED:20230629T211952Z
UID:15133-1703462400-1704499199@www.sd42.ca
SUMMARY:Schools close for winter break
DESCRIPTION:Schools close for winter break
URL:https://www.sd42.ca/upcoming-events/schools-close-for-winter-break-6/
CATEGORIES:Holidays,School Calendar
END:VEVENT
END:VCALENDAR