﻿BEGIN:VCALENDAR
VERSION:2.0
PRODID:-//Maple Ridge - Pitt Meadows School District 42 - ECPv6.15.15//NONSGML v1.0//EN
CALSCALE:GREGORIAN
METHOD:PUBLISH
X-ORIGINAL-URL:https://www.sd42.ca
X-WR-CALDESC:Events for Maple Ridge - Pitt Meadows School District 42
REFRESH-INTERVAL;VALUE=DURATION:PT1H
X-Robots-Tag:noindex
X-PUBLISHED-TTL:PT1H
BEGIN:VTIMEZONE
TZID:America/Vancouver
BEGIN:DAYLIGHT
TZOFFSETFROM:-0800
TZOFFSETTO:-0700
TZNAME:PDT
DTSTART:20220313T100000
END:DAYLIGHT
BEGIN:STANDARD
TZOFFSETFROM:-0700
TZOFFSETTO:-0800
TZNAME:PST
DTSTART:20221106T090000
END:STANDARD
BEGIN:DAYLIGHT
TZOFFSETFROM:-0800
TZOFFSETTO:-0700
TZNAME:PDT
DTSTART:20230312T100000
END:DAYLIGHT
BEGIN:STANDARD
TZOFFSETFROM:-0700
TZOFFSETTO:-0800
TZNAME:PST
DTSTART:20231105T090000
END:STANDARD
BEGIN:DAYLIGHT
TZOFFSETFROM:-0800
TZOFFSETTO:-0700
TZNAME:PDT
DTSTART:20240310T100000
END:DAYLIGHT
BEGIN:STANDARD
TZOFFSETFROM:-0700
TZOFFSETTO:-0800
TZNAME:PST
DTSTART:20241103T090000
END:STANDARD
END:VTIMEZONE
BEGIN:VEVENT
DTSTART;VALUE=DATE:20230905
DTEND;VALUE=DATE:20230906
DTSTAMP:20260423T024032
CREATED:20230629T211046Z
LAST-MODIFIED:20230629T211046Z
UID:15125-1693872000-1693958399@www.sd42.ca
SUMMARY:Opening day for students
DESCRIPTION:Schools open following summer break
URL:https://www.sd42.ca/upcoming-events/opening-day-for-students-7/
CATEGORIES:District Event
END:VEVENT
BEGIN:VEVENT
DTSTART;TZID=America/Vancouver:20230915T080000
DTEND;TZID=America/Vancouver:20230915T170000
DTSTAMP:20260423T024032
CREATED:20221207T195721Z
LAST-MODIFIED:20221207T195834Z
UID:14144-1694764800-1694797200@www.sd42.ca
SUMMARY:Kindergarten registration: OPEN registration phase CLOSES
DESCRIPTION:Open registration phase takes place between Aug. 21 and Sept. 15 and is for parents/guardians who missed previous registration phases. \nMore information: www.sd42.ca/kindergarten-registration/
URL:https://www.sd42.ca/upcoming-events/kindergarten-registration-open-phase-closes/
END:VEVENT
BEGIN:VEVENT
DTSTART;TZID=America/Vancouver:20230920T180000
DTEND;TZID=America/Vancouver:20230920T210000
DTSTAMP:20260423T024032
CREATED:20230629T213358Z
LAST-MODIFIED:20230629T213358Z
UID:15148-1695232800-1695243600@www.sd42.ca
SUMMARY:Board of Education meeting
DESCRIPTION:Agenda packages for public board meetings are posted on the Monday before the meeting at https://www.sd42.ca/board-of-education/board-meeting-agendas/.
URL:https://www.sd42.ca/upcoming-events/board-of-education-meeting-79/
CATEGORIES:Board of Education Meeting
END:VEVENT
END:VCALENDAR