﻿BEGIN:VCALENDAR
VERSION:2.0
PRODID:-//Maple Ridge - Pitt Meadows School District 42 - ECPv6.15.15//NONSGML v1.0//EN
CALSCALE:GREGORIAN
METHOD:PUBLISH
X-WR-CALNAME:Maple Ridge - Pitt Meadows School District 42
X-ORIGINAL-URL:https://www.sd42.ca
X-WR-CALDESC:Events for Maple Ridge - Pitt Meadows School District 42
REFRESH-INTERVAL;VALUE=DURATION:PT1H
X-Robots-Tag:noindex
X-PUBLISHED-TTL:PT1H
BEGIN:VTIMEZONE
TZID:America/Vancouver
BEGIN:DAYLIGHT
TZOFFSETFROM:-0800
TZOFFSETTO:-0700
TZNAME:PDT
DTSTART:20220313T100000
END:DAYLIGHT
BEGIN:STANDARD
TZOFFSETFROM:-0700
TZOFFSETTO:-0800
TZNAME:PST
DTSTART:20221106T090000
END:STANDARD
BEGIN:DAYLIGHT
TZOFFSETFROM:-0800
TZOFFSETTO:-0700
TZNAME:PDT
DTSTART:20230312T100000
END:DAYLIGHT
BEGIN:STANDARD
TZOFFSETFROM:-0700
TZOFFSETTO:-0800
TZNAME:PST
DTSTART:20231105T090000
END:STANDARD
BEGIN:DAYLIGHT
TZOFFSETFROM:-0800
TZOFFSETTO:-0700
TZNAME:PDT
DTSTART:20240310T100000
END:DAYLIGHT
BEGIN:STANDARD
TZOFFSETFROM:-0700
TZOFFSETTO:-0800
TZNAME:PST
DTSTART:20241103T090000
END:STANDARD
END:VTIMEZONE
BEGIN:VEVENT
DTSTART;TZID=America/Vancouver:20230614T173000
DTEND;TZID=America/Vancouver:20230614T200000
DTSTAMP:20260425T191120
CREATED:20230609T211641Z
LAST-MODIFIED:20230609T211641Z
UID:15005-1686763800-1686772800@www.sd42.ca
SUMMARY:Open House: Eric Langton Elementary Design
DESCRIPTION:YOUR VOICE\, YOUR SCHOOL \nWe invite you to attend our second open house on Wednesday\, June 14\, 2023. Station One Architects will report on the feedback received from our community\, addressing how this input has influenced the proposed school design. Attendees will have further opportunity to provide their perspectives on the proposed design.* \nIf you are unable to attend our open house but would like to provide your feedback\, you can participate in our second online survey\, which will be open from June 15 to 4 pm June 22\, 2023. A link to the survey will be posted here on June 15. \nEvent: Open House – Eric Langton Elementary Design\nDate: Wednesday\, June 14\, 2023 \nTime: 5:30 – 8:00 PM \nLocation: Eric Langton Elementary School (gym) \nPlease RSVP to register@sd42.ca by noon\, Monday\, June 12\, 2023. \n* Download a summary of feedback received.
URL:https://www.sd42.ca/upcoming-events/langton-elementary-design/
CATEGORIES:Community Event
END:VEVENT
BEGIN:VEVENT
DTSTART;TZID=America/Vancouver:20230621T180000
DTEND;TZID=America/Vancouver:20230621T210000
DTSTAMP:20260425T191120
CREATED:20220526T202811Z
LAST-MODIFIED:20220526T202811Z
UID:13247-1687370400-1687381200@www.sd42.ca
SUMMARY:Board of Education meeting
DESCRIPTION:Agenda packages for public board meetings are posted on the Monday before the meeting at https://www.sd42.ca/board-of-education/board-meeting-agendas/
URL:https://www.sd42.ca/upcoming-events/board-of-education-meeting-78/
CATEGORIES:Board of Education Meeting
END:VEVENT
BEGIN:VEVENT
DTSTART;TZID=America/Vancouver:20230622T173000
DTEND;TZID=America/Vancouver:20230622T200000
DTSTAMP:20260425T191120
CREATED:20230609T211515Z
LAST-MODIFIED:20230609T211515Z
UID:15004-1687455000-1687464000@www.sd42.ca
SUMMARY:Community Consultation Workshop: Replacement Secondary School and NLC in Pitt Meadows
DESCRIPTION:The Maple Ridge – Pitt Meadows School District is hosting an open house on Thursday\, June 22\, 2023\, at Pitt Meadows Secondary School to explore ideas for a replacement secondary school and neighbourhood learning centre (NLC) in Pitt Meadows. \nThe purpose of the consultation is to engage the community in helping define the vision for a replacement secondary school in Pitt Meadows housing a neighbourhood learning centre. \nEvent: Community Consultation Workshop – Replacement Secondary School and NLC in Pitt Meadows\nDate: Thursday\, June 22\, 2023\nDoors Open: 5:30 p.m.\nEvent Time: 6:00 pm – 8:00 p.m.\nLocation: Pitt Meadows Secondary (multipurpose room) \nPlease RSVP to register@sd42.ca by noon\, Monday\, June 19\, 2023. \nBackground information:\nIn March 2023\, the Ministry of Education and Child Care announced that the replacement of Pitt Meadows Secondary School has been identified as a supported project\, allowing the district to move forward with the development of a business case. The school district has begun work on the revised business case with the hope that funding for a replacement secondary school is announced within the next 12 months.
URL:https://www.sd42.ca/upcoming-events/community-consultation-replacement-secondary/
CATEGORIES:Community Event
END:VEVENT
BEGIN:VEVENT
DTSTART;VALUE=DATE:20230629
DTEND;VALUE=DATE:20230630
DTSTAMP:20260425T191120
CREATED:20220526T184051Z
LAST-MODIFIED:20220526T184051Z
UID:13233-1687996800-1688083199@www.sd42.ca
SUMMARY:Last day for students before summer break
DESCRIPTION:Last day for students before summer break.
URL:https://www.sd42.ca/upcoming-events/students-before-summer/
CATEGORIES:School Calendar
END:VEVENT
BEGIN:VEVENT
DTSTART;VALUE=DATE:20230630
DTEND;VALUE=DATE:20230701
DTSTAMP:20260425T191120
CREATED:20220526T184134Z
LAST-MODIFIED:20220526T184134Z
UID:13234-1688083200-1688169599@www.sd42.ca
SUMMARY:Year-end administrative day
DESCRIPTION:Year-end administrative day.
URL:https://www.sd42.ca/upcoming-events/year-end-administrative-day-6/
CATEGORIES:School Calendar
END:VEVENT
BEGIN:VEVENT
DTSTART;VALUE=DATE:20230630
DTEND;VALUE=DATE:20230701
DTSTAMP:20260425T191120
CREATED:20220526T184218Z
LAST-MODIFIED:20220526T184218Z
UID:13235-1688083200-1688169599@www.sd42.ca
SUMMARY:Schools close for summer vacation
DESCRIPTION:Schools close for summer vacation.
URL:https://www.sd42.ca/upcoming-events/schools-close-for-summer-vacation-2/
CATEGORIES:School Calendar
END:VEVENT
END:VCALENDAR