﻿BEGIN:VCALENDAR
VERSION:2.0
PRODID:-//Maple Ridge - Pitt Meadows School District 42 - ECPv6.15.15//NONSGML v1.0//EN
CALSCALE:GREGORIAN
METHOD:PUBLISH
X-ORIGINAL-URL:https://www.sd42.ca
X-WR-CALDESC:Events for Maple Ridge - Pitt Meadows School District 42
REFRESH-INTERVAL;VALUE=DURATION:PT1H
X-Robots-Tag:noindex
X-PUBLISHED-TTL:PT1H
BEGIN:VTIMEZONE
TZID:America/Vancouver
BEGIN:DAYLIGHT
TZOFFSETFROM:-0800
TZOFFSETTO:-0700
TZNAME:PDT
DTSTART:20200308T100000
END:DAYLIGHT
BEGIN:STANDARD
TZOFFSETFROM:-0700
TZOFFSETTO:-0800
TZNAME:PST
DTSTART:20201101T090000
END:STANDARD
BEGIN:DAYLIGHT
TZOFFSETFROM:-0800
TZOFFSETTO:-0700
TZNAME:PDT
DTSTART:20210314T100000
END:DAYLIGHT
BEGIN:STANDARD
TZOFFSETFROM:-0700
TZOFFSETTO:-0800
TZNAME:PST
DTSTART:20211107T090000
END:STANDARD
BEGIN:DAYLIGHT
TZOFFSETFROM:-0800
TZOFFSETTO:-0700
TZNAME:PDT
DTSTART:20220313T100000
END:DAYLIGHT
BEGIN:STANDARD
TZOFFSETFROM:-0700
TZOFFSETTO:-0800
TZNAME:PST
DTSTART:20221106T090000
END:STANDARD
END:VTIMEZONE
BEGIN:VEVENT
DTSTART;VALUE=DATE:20210819
DTEND;VALUE=DATE:20210820
DTSTAMP:20260425T154655
CREATED:20201201T001001Z
LAST-MODIFIED:20201201T001001Z
UID:10189-1629331200-1629417599@www.sd42.ca
SUMMARY:Kindergarten open registration BEGINS
DESCRIPTION:Open Registration Phase is for parents who missed previous registration phases. This phase opens at noon on August 19\, 2021.
URL:https://www.sd42.ca/upcoming-events/kindergarten-registration-begins/
CATEGORIES:District Event
END:VEVENT
BEGIN:VEVENT
DTSTART;TZID=America/Vancouver:20210825T180000
DTEND;TZID=America/Vancouver:20210825T190000
DTSTAMP:20260425T154655
CREATED:20210822T000214Z
LAST-MODIFIED:20210822T000214Z
UID:11670-1629914400-1629918000@www.sd42.ca
SUMMARY:Livestream: August 25\, 2021 special public meeting of the board
DESCRIPTION:A special public meeting of the board to approve the 2021/22 amended calendar will be live-streamed at https://www.sd42.ca/online-board-meetings/ on August 25\, 2021 at 6 pm.
URL:https://www.sd42.ca/upcoming-events/livestream-august-special-meeting/
CATEGORIES:Board of Education Meeting
END:VEVENT
END:VCALENDAR