﻿BEGIN:VCALENDAR
VERSION:2.0
PRODID:-//Maple Ridge - Pitt Meadows School District 42 - ECPv6.15.15//NONSGML v1.0//EN
CALSCALE:GREGORIAN
METHOD:PUBLISH
X-WR-CALNAME:Maple Ridge - Pitt Meadows School District 42
X-ORIGINAL-URL:https://www.sd42.ca
X-WR-CALDESC:Events for Maple Ridge - Pitt Meadows School District 42
REFRESH-INTERVAL;VALUE=DURATION:PT1H
X-Robots-Tag:noindex
X-PUBLISHED-TTL:PT1H
BEGIN:VTIMEZONE
TZID:America/Vancouver
BEGIN:DAYLIGHT
TZOFFSETFROM:-0800
TZOFFSETTO:-0700
TZNAME:PDT
DTSTART:20200308T100000
END:DAYLIGHT
BEGIN:STANDARD
TZOFFSETFROM:-0700
TZOFFSETTO:-0800
TZNAME:PST
DTSTART:20201101T090000
END:STANDARD
BEGIN:DAYLIGHT
TZOFFSETFROM:-0800
TZOFFSETTO:-0700
TZNAME:PDT
DTSTART:20210314T100000
END:DAYLIGHT
BEGIN:STANDARD
TZOFFSETFROM:-0700
TZOFFSETTO:-0800
TZNAME:PST
DTSTART:20211107T090000
END:STANDARD
BEGIN:DAYLIGHT
TZOFFSETFROM:-0800
TZOFFSETTO:-0700
TZNAME:PDT
DTSTART:20220313T100000
END:DAYLIGHT
BEGIN:STANDARD
TZOFFSETFROM:-0700
TZOFFSETTO:-0800
TZNAME:PST
DTSTART:20221106T090000
END:STANDARD
END:VTIMEZONE
BEGIN:VEVENT
DTSTART;VALUE=DATE:20210402
DTEND;VALUE=DATE:20210403
DTSTAMP:20260425T052759
CREATED:20200625T194623Z
LAST-MODIFIED:20200625T194623Z
UID:9300-1617321600-1617407999@www.sd42.ca
SUMMARY:Good Friday
DESCRIPTION:Statutory holiday. Schools not in session. 
URL:https://www.sd42.ca/upcoming-events/good-friday-5/
CATEGORIES:School Calendar,Statutory Holiday
END:VEVENT
BEGIN:VEVENT
DTSTART;VALUE=DATE:20210405
DTEND;VALUE=DATE:20210406
DTSTAMP:20260425T052759
CREATED:20200625T194800Z
LAST-MODIFIED:20200625T194800Z
UID:9301-1617580800-1617667199@www.sd42.ca
SUMMARY:Easter Monday
DESCRIPTION:Statutory holiday. Schools not in session. 
URL:https://www.sd42.ca/upcoming-events/easter-monday-5/
CATEGORIES:School Calendar,Statutory Holiday
END:VEVENT
BEGIN:VEVENT
DTSTART;TZID=America/Vancouver:20210414T080000
DTEND;TZID=America/Vancouver:20210414T170000
DTSTAMP:20260425T052759
CREATED:20200527T224322Z
LAST-MODIFIED:20200527T224322Z
UID:9123-1618387200-1618419600@www.sd42.ca
SUMMARY:Board of Education meeting
DESCRIPTION:Agenda packages for public board meetings are posted on the Monday before the meeting at http://www.sd42.ca/board-of-education/board-meeting-agendas/ \n 
URL:https://www.sd42.ca/upcoming-events/board-of-education-meeting-53/
CATEGORIES:Board of Education Meeting
END:VEVENT
BEGIN:VEVENT
DTSTART;TZID=America/Vancouver:20210428T180000
DTEND;TZID=America/Vancouver:20210428T200000
DTSTAMP:20260425T052759
CREATED:20210427T192439Z
LAST-MODIFIED:20210427T192502Z
UID:11009-1619632800-1619640000@www.sd42.ca
SUMMARY:Budget Committee of the Whole Meeting
DESCRIPTION:Public and partner group input on the Proposed 2021/22 Preliminary Budget.
URL:https://www.sd42.ca/upcoming-events/budget-committee-whole/
CATEGORIES:Board of Education Meeting
END:VEVENT
END:VCALENDAR