﻿BEGIN:VCALENDAR
VERSION:2.0
PRODID:-//Maple Ridge - Pitt Meadows School District 42 - ECPv6.15.15//NONSGML v1.0//EN
CALSCALE:GREGORIAN
METHOD:PUBLISH
X-ORIGINAL-URL:https://www.sd42.ca
X-WR-CALDESC:Events for Maple Ridge - Pitt Meadows School District 42
REFRESH-INTERVAL;VALUE=DURATION:PT1H
X-Robots-Tag:noindex
X-PUBLISHED-TTL:PT1H
BEGIN:VTIMEZONE
TZID:America/Vancouver
BEGIN:DAYLIGHT
TZOFFSETFROM:-0800
TZOFFSETTO:-0700
TZNAME:PDT
DTSTART:20190310T100000
END:DAYLIGHT
BEGIN:STANDARD
TZOFFSETFROM:-0700
TZOFFSETTO:-0800
TZNAME:PST
DTSTART:20191103T090000
END:STANDARD
BEGIN:DAYLIGHT
TZOFFSETFROM:-0800
TZOFFSETTO:-0700
TZNAME:PDT
DTSTART:20200308T100000
END:DAYLIGHT
BEGIN:STANDARD
TZOFFSETFROM:-0700
TZOFFSETTO:-0800
TZNAME:PST
DTSTART:20201101T090000
END:STANDARD
BEGIN:DAYLIGHT
TZOFFSETFROM:-0800
TZOFFSETTO:-0700
TZNAME:PDT
DTSTART:20210314T100000
END:DAYLIGHT
BEGIN:STANDARD
TZOFFSETFROM:-0700
TZOFFSETTO:-0800
TZNAME:PST
DTSTART:20211107T090000
END:STANDARD
BEGIN:DAYLIGHT
TZOFFSETFROM:-0800
TZOFFSETTO:-0700
TZNAME:PDT
DTSTART:20220313T100000
END:DAYLIGHT
BEGIN:STANDARD
TZOFFSETFROM:-0700
TZOFFSETTO:-0800
TZNAME:PST
DTSTART:20221106T090000
END:STANDARD
END:VTIMEZONE
BEGIN:VEVENT
DTSTART;TZID=America/Vancouver:20201221T080000
DTEND;TZID=America/Vancouver:20210101T170000
DTSTAMP:20260424T203452
CREATED:20200625T185138Z
LAST-MODIFIED:20200625T185300Z
UID:9291-1608537600-1609520400@www.sd42.ca
SUMMARY:Schools close for winter break
DESCRIPTION:Schools not in session. 
URL:https://www.sd42.ca/upcoming-events/schools-close-for-winter-break-3/
CATEGORIES:District Event,Holidays,School Calendar
END:VEVENT
BEGIN:VEVENT
DTSTART;VALUE=DATE:20210104
DTEND;VALUE=DATE:20210105
DTSTAMP:20260424T203452
CREATED:20200625T185449Z
LAST-MODIFIED:20200625T185737Z
UID:9292-1609718400-1609804799@www.sd42.ca
SUMMARY:Schools reopen after the break
DESCRIPTION:Schools reopen after the break.
URL:https://www.sd42.ca/upcoming-events/schools-reopen-after-the-break/
CATEGORIES:District Event,School Calendar
END:VEVENT
BEGIN:VEVENT
DTSTART;VALUE=DATE:20210106
DTEND;VALUE=DATE:20210107
DTSTAMP:20260424T203452
CREATED:20201130T235259Z
LAST-MODIFIED:20211215T230822Z
UID:10179-1609891200-1609977599@www.sd42.ca
SUMMARY:Kindergarten registration: sibling phase OPENS
DESCRIPTION:The sibling phase of kindergarten registration opens noon\, January 6\, 2021\, and closes midnight\, January 12\, 2021. \nSibling registration (for general and choice programs) is open for siblings of students already attending the desired elementary school (currently in grades K-6). See acceptance criteria 1 \nNOTE: You must link the older sibling to your Parent Portal account before registration: http://parents.sd42.ca. Registration is done online on the parent portal.
URL:https://www.sd42.ca/upcoming-events/kindergarten-registration-sibling-phase-opens/
CATEGORIES:District Event
END:VEVENT
BEGIN:VEVENT
DTSTART;VALUE=DATE:20210112
DTEND;VALUE=DATE:20210113
DTSTAMP:20260424T203452
CREATED:20201130T235423Z
LAST-MODIFIED:20201130T235423Z
UID:10180-1610409600-1610495999@www.sd42.ca
SUMMARY:Kindergarten registration: sibling phase CLOSES
DESCRIPTION:The sibling phase of kindergarten registration opens noon\, January 6\, 2021\, and closes midnight\, January 12\, 2021. \nSibling registration (for general and choice programs) is open for siblings of students already attending the desired elementary school (currently in grades K-6). See acceptance criteria 1 \nNOTE: You must link the older sibling to your Parent Portal account before registration: http://parents.sd42.ca. Registration is done online on the parent portal.
URL:https://www.sd42.ca/upcoming-events/kindergarten-registration-sibling-phase-closes-3/
CATEGORIES:District Event
END:VEVENT
BEGIN:VEVENT
DTSTART;TZID=America/Vancouver:20210114T180000
DTEND;TZID=America/Vancouver:20210114T180000
DTSTAMP:20260424T203452
CREATED:20201224T175935Z
LAST-MODIFIED:20201231T174408Z
UID:10340-1610647200-1610647200@www.sd42.ca
SUMMARY:Wheelhouse Online Information Night
DESCRIPTION:Preregistration required: https://bit.ly/3pFeyW8 \nThe Wheelhouse is a classroom where students are both challenged and supported in becoming life-long learners and responsible citizens. It runs out of Alouette Elementary (22155 Isaac Crescent) and is open to all Maple Ridge – Pitt Meadows School District No. 42 students who will be going into grades 6 and 7 in September 2021. Join our online information night to learn more. \nFor more information\, please visit The Wheelhouse online at https://wheelhouse.sd42.ca/.
URL:https://www.sd42.ca/upcoming-events/wheelhouse-online-information-night/
END:VEVENT
BEGIN:VEVENT
DTSTART;VALUE=DATE:20210120
DTEND;VALUE=DATE:20210121
DTSTAMP:20260424T203452
CREATED:20201130T235629Z
LAST-MODIFIED:20201130T235629Z
UID:10181-1611100800-1611187199@www.sd42.ca
SUMMARY:Kindergarten registration: choice phase OPENS
DESCRIPTION:Choice registration opens noon\, January 20\, 2021\, and closes midnight\, January 25\, 2021. \nChoice program registration for all students who wish to participate in any one of SD42’s unique program offerings. See acceptance criteria 2-5. \nENVIRONMENTAL SCHOOL PROJECT \nFRENCH IMMERSION: Eric Langton Elementary\, Laity View Elementary\, Maple Ridge Elementary (Kindergarten & Grade 1\, 2\, 3 only)\, Pitt Meadows Elementary \nMONTESSORI: Hammond Elementary \nRegistration is done online on the parent portal. Visit our kindergarten registration page for more information.
URL:https://www.sd42.ca/upcoming-events/kindergarten-registration-choice-phase-opens-2/
CATEGORIES:District Event
END:VEVENT
BEGIN:VEVENT
DTSTART;VALUE=DATE:20210125
DTEND;VALUE=DATE:20210126
DTSTAMP:20260424T203452
CREATED:20200625T185901Z
LAST-MODIFIED:20200625T185901Z
UID:9293-1611532800-1611619199@www.sd42.ca
SUMMARY:Non-instructional day (district-based)
DESCRIPTION:School not in session. 
URL:https://www.sd42.ca/upcoming-events/instructional-district-based/
CATEGORIES:District Event,Non-Instructional Day,School Calendar
END:VEVENT
BEGIN:VEVENT
DTSTART;VALUE=DATE:20210125
DTEND;VALUE=DATE:20210126
DTSTAMP:20260424T203452
CREATED:20201130T235805Z
LAST-MODIFIED:20201130T235805Z
UID:10182-1611532800-1611619199@www.sd42.ca
SUMMARY:Kindergarten registration: choice phase CLOSES
DESCRIPTION:Choice registration opens noon\, January 20\, 2021\, and closes midnight\, January 25\, 2021. \nChoice program registration for all students who wish to participate in any one of SD42’s unique program offerings. See acceptance criteria 2-5. \nENVIRONMENTAL SCHOOL PROJECT \nFRENCH IMMERSION: Eric Langton Elementary\, Laity View Elementary\, Maple Ridge Elementary (Kindergarten & Grade 1\, 2\, 3 only)\, Pitt Meadows Elementary \nMONTESSORI: Hammond Elementary \nRegistration is done online on the parent portal. Visit our kindergarten registration page for more information.
URL:https://www.sd42.ca/upcoming-events/kindergarten-registration-choice-phase-closes/
CATEGORIES:District Event
END:VEVENT
BEGIN:VEVENT
DTSTART;TZID=America/Vancouver:20210126T180000
DTEND;TZID=America/Vancouver:20210126T180000
DTSTAMP:20260424T203452
CREATED:20201224T175521Z
LAST-MODIFIED:20201231T174248Z
UID:10337-1611684000-1611684000@www.sd42.ca
SUMMARY:Wheelhouse Online Information Night
DESCRIPTION:Preregistration required: https://bit.ly/3hvXYoJ \nThe Wheelhouse is a classroom where students are both challenged and supported in becoming life-long learners and responsible citizens. It runs out of Alouette Elementary (22155 Isaac Crescent) and is open to all Maple Ridge – Pitt Meadows School District No. 42 students who will be going into grades 6 and 7 in September 2021. Join our online information night to learn more. \nFor more information\, please visit The Wheelhouse online at https://wheelhouse.sd42.ca/.
URL:https://www.sd42.ca/upcoming-events/wheelhouse-online-information/
END:VEVENT
BEGIN:VEVENT
DTSTART;TZID=America/Vancouver:20210126T193000
DTEND;TZID=America/Vancouver:20210126T193000
DTSTAMP:20260424T203452
CREATED:20210106T183005Z
LAST-MODIFIED:20210112T225550Z
UID:10386-1611689400-1611689400@www.sd42.ca
SUMMARY:IB Diploma Programme Information Session
DESCRIPTION:Garibaldi Secondary is hosting an International Baccalaureate Program (IB) Zoom information session on Tuesday\, January 26\, at 7:30 p.m. Information will be presented to support the intake of Grade 11 students for fall\, 2021. \nThe session will include teachers and admin. As a matter of courtesy\, please ensure that your Zoom ID includes your family or last name. \nPreregistration is required: https://bit.ly/38kCb09.
URL:https://www.sd42.ca/upcoming-events/diploma-programme-information/
END:VEVENT
BEGIN:VEVENT
DTSTART;TZID=America/Vancouver:20210127T180000
DTEND;TZID=America/Vancouver:20210127T210000
DTSTAMP:20260424T203452
CREATED:20200527T223941Z
LAST-MODIFIED:20200527T223941Z
UID:9120-1611770400-1611781200@www.sd42.ca
SUMMARY:Board of Education meeting
DESCRIPTION:Agenda packages for public board meetings are posted on the Monday before the meeting at http://www.sd42.ca/board-of-education/board-meeting-agendas/ \n 
URL:https://www.sd42.ca/upcoming-events/board-of-education-meeting-50/
CATEGORIES:Board of Education Meeting
END:VEVENT
BEGIN:VEVENT
DTSTART;TZID=America/Vancouver:20210128T190000
DTEND;TZID=America/Vancouver:20210128T190000
DTSTAMP:20260424T203452
CREATED:20210112T224812Z
LAST-MODIFIED:20210128T171853Z
UID:10420-1611860400-1611860400@www.sd42.ca
SUMMARY:DPAC Grade 7 to 8 Online Information Night
DESCRIPTION:Is your child going into Grade 8 next year? Join the District Parent Advisory Council for the annual Grade 7 to 8 information night\, which will be broadcast on YouTube at 7 p.m. on January 28. Learn more about the registration process and what your child can expect as they take this exciting step in their academic career.  \nClick here to watch the presentation: https://bit.ly/3hXdb2h
URL:https://www.sd42.ca/upcoming-events/grade-online-information/
END:VEVENT
END:VCALENDAR