﻿BEGIN:VCALENDAR
VERSION:2.0
PRODID:-//Maple Ridge - Pitt Meadows School District 42 - ECPv6.15.15//NONSGML v1.0//EN
CALSCALE:GREGORIAN
METHOD:PUBLISH
X-ORIGINAL-URL:https://www.sd42.ca
X-WR-CALDESC:Events for Maple Ridge - Pitt Meadows School District 42
REFRESH-INTERVAL;VALUE=DURATION:PT1H
X-Robots-Tag:noindex
X-PUBLISHED-TTL:PT1H
BEGIN:VTIMEZONE
TZID:America/Vancouver
BEGIN:DAYLIGHT
TZOFFSETFROM:-0800
TZOFFSETTO:-0700
TZNAME:PDT
DTSTART:20190310T100000
END:DAYLIGHT
BEGIN:STANDARD
TZOFFSETFROM:-0700
TZOFFSETTO:-0800
TZNAME:PST
DTSTART:20191103T090000
END:STANDARD
BEGIN:DAYLIGHT
TZOFFSETFROM:-0800
TZOFFSETTO:-0700
TZNAME:PDT
DTSTART:20200308T100000
END:DAYLIGHT
BEGIN:STANDARD
TZOFFSETFROM:-0700
TZOFFSETTO:-0800
TZNAME:PST
DTSTART:20201101T090000
END:STANDARD
BEGIN:DAYLIGHT
TZOFFSETFROM:-0800
TZOFFSETTO:-0700
TZNAME:PDT
DTSTART:20210314T100000
END:DAYLIGHT
BEGIN:STANDARD
TZOFFSETFROM:-0700
TZOFFSETTO:-0800
TZNAME:PST
DTSTART:20211107T090000
END:STANDARD
END:VTIMEZONE
BEGIN:VEVENT
DTSTART;VALUE=DATE:20200908
DTEND;VALUE=DATE:20200909
DTSTAMP:20260424T000353
CREATED:20200625T181545Z
LAST-MODIFIED:20200820T173202Z
UID:9283-1599523200-1599609599@www.sd42.ca
SUMMARY:Orientation Week Begins 
DESCRIPTION:Maple Ridge – Pitt Meadows School District No. 42  will be implementing a gradual restart plan during the week of September 8. This means that students will NOT be returning to classrooms on September 8 as previously announced.   \nThe first two days of school (September 8 and 9) will be reserved for the training of staff on all updated health and safety guidelines and to prepare for the return of our students. Students will begin to return to classrooms on September 10 and 11 in groups at set times for a full orientation on the implemented health and safety protocols and an introduction to their cohort.   \nRegular daily attendance for all grade 1-12 students begins on September 14. Parents of our incoming kindergarten students will be provided an updated detailed gradual start schedule directly by school principals. 
URL:https://www.sd42.ca/upcoming-events/opening-day-for-students-4/
CATEGORIES:District Event,School Calendar
ATTACH;FMTTYPE=image/jpeg:https://www.sd42.ca/assets/media/First-Day-of-School.jpg
END:VEVENT
BEGIN:VEVENT
DTSTART;TZID=America/Vancouver:20200923T180000
DTEND;TZID=America/Vancouver:20200923T210000
DTSTAMP:20260424T000353
CREATED:20200527T175123Z
LAST-MODIFIED:20200916T205642Z
UID:9113-1600884000-1600894800@www.sd42.ca
SUMMARY:Board of Education meeting
DESCRIPTION:Streamed live online through the SD42 YouTube channel; the live stream will also be embedded at https://www.sd42.ca/online-board-meetings/\n \nAgenda packages for public board meetings are posted on the Monday before the meeting at http://www.sd42.ca/board-of-education/board-meeting-agendas/ \nInvitation for Public Input\nMembers of the public can provide input on decision items on the agenda by emailing board@sd42.ca by no later than 5:30 pm on the day of the meeting. The email subject line should read: INPUT Regarding Decision Item. All public input received will be shared with trustees electronically. This agenda item has a time limit of 10 minutes. \nQuestion Period\nQuestion period will be restricted to questions only – statements and debate will not be permitted. Questions\, with the exception of trustee questions\, will be limited to one question per person. Members of the public can submit questions for the board by emailing them to board@sd42.ca before the start of question period. The email subject line should read: QUESTION PERIOD. All questions received before the start of the question period will be answered in the order they are received. This agenda item has a time limit of 10 minutes; extension is at the discretion of the board. \n 
URL:https://www.sd42.ca/upcoming-events/board-of-education-meeting-46/
CATEGORIES:Board of Education Meeting
END:VEVENT
BEGIN:VEVENT
DTSTART;VALUE=DATE:20200928
DTEND;VALUE=DATE:20200929
DTSTAMP:20260424T000353
CREATED:20200625T182223Z
LAST-MODIFIED:20200625T182509Z
UID:9284-1601251200-1601337599@www.sd42.ca
SUMMARY:Non-instructional day (School Growth Planning Day)
DESCRIPTION:School not in session.
URL:https://www.sd42.ca/upcoming-events/instructional-school-planning/
CATEGORIES:District Event,Non-Instructional Day,School Calendar
ATTACH;FMTTYPE=image/jpeg:https://www.sd42.ca/assets/media/pro-d-day2-e1475277529115.jpg
END:VEVENT
END:VCALENDAR