﻿BEGIN:VCALENDAR
VERSION:2.0
PRODID:-//Maple Ridge - Pitt Meadows School District 42 - ECPv6.15.15//NONSGML v1.0//EN
CALSCALE:GREGORIAN
METHOD:PUBLISH
X-ORIGINAL-URL:https://www.sd42.ca
X-WR-CALDESC:Events for Maple Ridge - Pitt Meadows School District 42
REFRESH-INTERVAL;VALUE=DURATION:PT1H
X-Robots-Tag:noindex
X-PUBLISHED-TTL:PT1H
BEGIN:VTIMEZONE
TZID:America/Vancouver
BEGIN:DAYLIGHT
TZOFFSETFROM:-0800
TZOFFSETTO:-0700
TZNAME:PDT
DTSTART:20190310T100000
END:DAYLIGHT
BEGIN:STANDARD
TZOFFSETFROM:-0700
TZOFFSETTO:-0800
TZNAME:PST
DTSTART:20191103T090000
END:STANDARD
BEGIN:DAYLIGHT
TZOFFSETFROM:-0800
TZOFFSETTO:-0700
TZNAME:PDT
DTSTART:20200308T100000
END:DAYLIGHT
BEGIN:STANDARD
TZOFFSETFROM:-0700
TZOFFSETTO:-0800
TZNAME:PST
DTSTART:20201101T090000
END:STANDARD
BEGIN:DAYLIGHT
TZOFFSETFROM:-0800
TZOFFSETTO:-0700
TZNAME:PDT
DTSTART:20210314T100000
END:DAYLIGHT
BEGIN:STANDARD
TZOFFSETFROM:-0700
TZOFFSETTO:-0800
TZNAME:PST
DTSTART:20211107T090000
END:STANDARD
END:VTIMEZONE
BEGIN:VEVENT
DTSTART;TZID=America/Vancouver:20200513T180000
DTEND;TZID=America/Vancouver:20200513T210000
DTSTAMP:20260423T105344
CREATED:20190429T174730Z
LAST-MODIFIED:20200415T214623Z
UID:6647-1589392800-1589403600@www.sd42.ca
SUMMARY:Board of Education meeting
DESCRIPTION:Streamed live online through the SD42 YouTube channel; the live stream will also be embedded at https://www.sd42.ca/online-board-meetings/\n \nAgenda packages for public board meetings are posted on the Monday before the meeting at http://www.sd42.ca/board-of-education/board-meeting-agendas/ \nInvitation for Public Input\nMembers of the public can provide input on decision items on the agenda by emailing board@sd42.ca by no later than 5:30 pm on the day of the meeting. The email subject line should read: INPUT Regarding Decision Item. All public input received will be shared with trustees electronically. This agenda item has a time limit of 10 minutes. \nQuestion Period\nQuestion period will be restricted to questions only – statements and debate will not be permitted. Questions\, with the exception of trustee questions\, will be limited to one question per person. Members of the public can submit questions for the board by emailing them to board@sd42.ca before the start of question period. The email subject line should read: QUESTION PERIOD. All questions received before the start of the question period will be answered in the order they are received. This agenda item has a time limit of 10 minutes; extension is at the discretion of the board. \n 
URL:https://www.sd42.ca/upcoming-events/board-of-education-meeting-44/
CATEGORIES:Board of Education Meeting
END:VEVENT
BEGIN:VEVENT
DTSTART;VALUE=DATE:20200518
DTEND;VALUE=DATE:20200519
DTSTAMP:20260423T105344
CREATED:20180611T195144Z
LAST-MODIFIED:20180611T195144Z
UID:5331-1589760000-1589846399@www.sd42.ca
SUMMARY:Victoria Day
DESCRIPTION:Schools closed for statutory holiday. 
URL:https://www.sd42.ca/upcoming-events/victoria-day-4/
CATEGORIES:Statutory Holiday
END:VEVENT
BEGIN:VEVENT
DTSTART;VALUE=DATE:20200519
DTEND;VALUE=DATE:20200520
DTSTAMP:20260423T105344
CREATED:20180611T195741Z
LAST-MODIFIED:20180611T195741Z
UID:5332-1589846400-1589932799@www.sd42.ca
SUMMARY:Non-instructional day
DESCRIPTION:Schools not in session. 
URL:https://www.sd42.ca/upcoming-events/non-instructional-day-9/
CATEGORIES:Non-Instructional Day,School Calendar
END:VEVENT
END:VCALENDAR