﻿BEGIN:VCALENDAR
VERSION:2.0
PRODID:-//Maple Ridge - Pitt Meadows School District 42 - ECPv6.15.15//NONSGML v1.0//EN
CALSCALE:GREGORIAN
METHOD:PUBLISH
X-ORIGINAL-URL:https://www.sd42.ca
X-WR-CALDESC:Events for Maple Ridge - Pitt Meadows School District 42
REFRESH-INTERVAL;VALUE=DURATION:PT1H
X-Robots-Tag:noindex
X-PUBLISHED-TTL:PT1H
BEGIN:VTIMEZONE
TZID:America/Vancouver
BEGIN:DAYLIGHT
TZOFFSETFROM:-0800
TZOFFSETTO:-0700
TZNAME:PDT
DTSTART:20190310T100000
END:DAYLIGHT
BEGIN:STANDARD
TZOFFSETFROM:-0700
TZOFFSETTO:-0800
TZNAME:PST
DTSTART:20191103T090000
END:STANDARD
BEGIN:DAYLIGHT
TZOFFSETFROM:-0800
TZOFFSETTO:-0700
TZNAME:PDT
DTSTART:20200308T100000
END:DAYLIGHT
BEGIN:STANDARD
TZOFFSETFROM:-0700
TZOFFSETTO:-0800
TZNAME:PST
DTSTART:20201101T090000
END:STANDARD
BEGIN:DAYLIGHT
TZOFFSETFROM:-0800
TZOFFSETTO:-0700
TZNAME:PDT
DTSTART:20210314T100000
END:DAYLIGHT
BEGIN:STANDARD
TZOFFSETFROM:-0700
TZOFFSETTO:-0800
TZNAME:PST
DTSTART:20211107T090000
END:STANDARD
END:VTIMEZONE
BEGIN:VEVENT
DTSTART;VALUE=DATE:20200410
DTEND;VALUE=DATE:20200411
DTSTAMP:20260423T091531
CREATED:20180611T193320Z
LAST-MODIFIED:20180611T193503Z
UID:5329-1586476800-1586563199@www.sd42.ca
SUMMARY:Good Friday
DESCRIPTION:Schools closed for statutory holiday. 
URL:https://www.sd42.ca/upcoming-events/good-friday-4/
CATEGORIES:Statutory Holiday
END:VEVENT
BEGIN:VEVENT
DTSTART;VALUE=DATE:20200413
DTEND;VALUE=DATE:20200414
DTSTAMP:20260423T091531
CREATED:20180611T193610Z
LAST-MODIFIED:20190422T173529Z
UID:5330-1586736000-1586822399@www.sd42.ca
SUMMARY:Easter Monday
DESCRIPTION:Schools closed. 
URL:https://www.sd42.ca/upcoming-events/easter-monday-4/
CATEGORIES:Statutory Holiday
END:VEVENT
BEGIN:VEVENT
DTSTART;TZID=America/Vancouver:20200415T180000
DTEND;TZID=America/Vancouver:20200415T210000
DTSTAMP:20260423T091531
CREATED:20190429T174303Z
LAST-MODIFIED:20200415T214446Z
UID:6645-1586973600-1586984400@www.sd42.ca
SUMMARY:Board of Education meeting
DESCRIPTION:Streamed live online through the SD42 YouTube channel; the live stream will also be embedded at https://www.sd42.ca/online-board-meetings/\n \nAgenda packages for public board meetings are posted on the Monday before the meeting at http://www.sd42.ca/board-of-education/board-meeting-agendas/ \nInvitation for Public Input\nMembers of the public can provide input on decision items on the agenda by emailing board@sd42.ca by no later than 5:30 pm on the day of the meeting. The email subject line should read: INPUT Regarding Decision Item. All public input received will be shared with trustees electronically. This agenda item has a time limit of 10 minutes. \nQuestion Period\nQuestion period will be restricted to questions only – statements and debate will not be permitted. Questions\, with the exception of trustee questions\, will be limited to one question per person. Members of the public can submit questions for the board by emailing them to board@sd42.ca before the start of question period. The email subject line should read: QUESTION PERIOD. All questions received before the start of the question period will be answered in the order they are received. This agenda item has a time limit of 10 minutes; extension is at the discretion of the board. \n 
URL:https://www.sd42.ca/upcoming-events/board-of-education-meeting-42/
CATEGORIES:Board of Education Meeting
END:VEVENT
BEGIN:VEVENT
DTSTART;TZID=America/Vancouver:20200429T180000
DTEND;TZID=America/Vancouver:20200429T210000
DTSTAMP:20260423T091531
CREATED:20190429T174453Z
LAST-MODIFIED:20200415T214529Z
UID:6646-1588183200-1588194000@www.sd42.ca
SUMMARY:Board of Education meeting
DESCRIPTION:Streamed live online through the SD42 YouTube channel; the live stream will also be embedded at https://www.sd42.ca/online-board-meetings/\n \nAgenda packages for public board meetings are posted on the Monday before the meeting at http://www.sd42.ca/board-of-education/board-meeting-agendas/ \nInvitation for Public Input\nMembers of the public can provide input on decision items on the agenda by emailing board@sd42.ca by no later than 5:30 pm on the day of the meeting. The email subject line should read: INPUT Regarding Decision Item. All public input received will be shared with trustees electronically. This agenda item has a time limit of 10 minutes. \nQuestion Period\nQuestion period will be restricted to questions only – statements and debate will not be permitted. Questions\, with the exception of trustee questions\, will be limited to one question per person. Members of the public can submit questions for the board by emailing them to board@sd42.ca before the start of question period. The email subject line should read: QUESTION PERIOD. All questions received before the start of the question period will be answered in the order they are received. This agenda item has a time limit of 10 minutes; extension is at the discretion of the board. \n 
URL:https://www.sd42.ca/upcoming-events/board-of-education-meeting-43/
CATEGORIES:Board of Education Meeting
END:VEVENT
END:VCALENDAR