﻿BEGIN:VCALENDAR
VERSION:2.0
PRODID:-//Maple Ridge - Pitt Meadows School District 42 - ECPv6.15.15//NONSGML v1.0//EN
CALSCALE:GREGORIAN
METHOD:PUBLISH
X-ORIGINAL-URL:https://www.sd42.ca
X-WR-CALDESC:Events for Maple Ridge - Pitt Meadows School District 42
REFRESH-INTERVAL;VALUE=DURATION:PT1H
X-Robots-Tag:noindex
X-PUBLISHED-TTL:PT1H
BEGIN:VTIMEZONE
TZID:America/Vancouver
BEGIN:DAYLIGHT
TZOFFSETFROM:-0800
TZOFFSETTO:-0700
TZNAME:PDT
DTSTART:20190310T100000
END:DAYLIGHT
BEGIN:STANDARD
TZOFFSETFROM:-0700
TZOFFSETTO:-0800
TZNAME:PST
DTSTART:20191103T090000
END:STANDARD
BEGIN:DAYLIGHT
TZOFFSETFROM:-0800
TZOFFSETTO:-0700
TZNAME:PDT
DTSTART:20200308T100000
END:DAYLIGHT
BEGIN:STANDARD
TZOFFSETFROM:-0700
TZOFFSETTO:-0800
TZNAME:PST
DTSTART:20201101T090000
END:STANDARD
BEGIN:DAYLIGHT
TZOFFSETFROM:-0800
TZOFFSETTO:-0700
TZNAME:PDT
DTSTART:20210314T100000
END:DAYLIGHT
BEGIN:STANDARD
TZOFFSETFROM:-0700
TZOFFSETTO:-0800
TZNAME:PST
DTSTART:20211107T090000
END:STANDARD
END:VTIMEZONE
BEGIN:VEVENT
DTSTART;TZID=America/Vancouver:20200311T180000
DTEND;TZID=America/Vancouver:20200311T210000
DTSTAMP:20260423T053448
CREATED:20190429T174053Z
LAST-MODIFIED:20190429T174119Z
UID:6644-1583949600-1583960400@www.sd42.ca
SUMMARY:Board of Education meeting
DESCRIPTION:District Education Office  \n22225 Brown Avenue\, Maple Ridge \nAgenda packages for public board meetings are posted on the Monday before the meeting at http://www.sd42.ca/board-of-education/board-meeting-agendas/
URL:https://www.sd42.ca/upcoming-events/board-of-education-meeting-41/
CATEGORIES:Board of Education Meeting
END:VEVENT
BEGIN:VEVENT
DTSTART;VALUE=DATE:20200313
DTEND;VALUE=DATE:20200314
DTSTAMP:20260423T053448
CREATED:20180611T183614Z
LAST-MODIFIED:20180611T190256Z
UID:5325-1584057600-1584143999@www.sd42.ca
SUMMARY:Last day of school before break
DESCRIPTION:Last day of school before break.
URL:https://www.sd42.ca/upcoming-events/school-before-break/
CATEGORIES:School Calendar
END:VEVENT
BEGIN:VEVENT
DTSTART;TZID=America/Vancouver:20200316T080000
DTEND;TZID=America/Vancouver:20200320T170000
DTSTAMP:20260423T053448
CREATED:20180611T190749Z
LAST-MODIFIED:20180611T192656Z
UID:5326-1584345600-1584723600@www.sd42.ca
SUMMARY:Spring Break (March 16-20)
DESCRIPTION:Schools not in session. 
URL:https://www.sd42.ca/upcoming-events/spring-break-march-16/
CATEGORIES:Holidays,School Calendar
END:VEVENT
BEGIN:VEVENT
DTSTART;TZID=America/Vancouver:20200323T080000
DTEND;TZID=America/Vancouver:20200327T170000
DTSTAMP:20260423T053448
CREATED:20180611T192854Z
LAST-MODIFIED:20180611T192943Z
UID:5327-1584950400-1585328400@www.sd42.ca
SUMMARY:Schools not in session (March 23-27)
DESCRIPTION:Schools not in session.
URL:https://www.sd42.ca/upcoming-events/schools-not-session-march/
CATEGORIES:Holidays,School Calendar
END:VEVENT
END:VCALENDAR