﻿BEGIN:VCALENDAR
VERSION:2.0
PRODID:-//Maple Ridge - Pitt Meadows School District 42 - ECPv6.15.15//NONSGML v1.0//EN
CALSCALE:GREGORIAN
METHOD:PUBLISH
X-ORIGINAL-URL:https://www.sd42.ca
X-WR-CALDESC:Events for Maple Ridge - Pitt Meadows School District 42
REFRESH-INTERVAL;VALUE=DURATION:PT1H
X-Robots-Tag:noindex
X-PUBLISHED-TTL:PT1H
BEGIN:VTIMEZONE
TZID:America/Vancouver
BEGIN:DAYLIGHT
TZOFFSETFROM:-0800
TZOFFSETTO:-0700
TZNAME:PDT
DTSTART:20180311T100000
END:DAYLIGHT
BEGIN:STANDARD
TZOFFSETFROM:-0700
TZOFFSETTO:-0800
TZNAME:PST
DTSTART:20181104T090000
END:STANDARD
BEGIN:DAYLIGHT
TZOFFSETFROM:-0800
TZOFFSETTO:-0700
TZNAME:PDT
DTSTART:20190310T100000
END:DAYLIGHT
BEGIN:STANDARD
TZOFFSETFROM:-0700
TZOFFSETTO:-0800
TZNAME:PST
DTSTART:20191103T090000
END:STANDARD
BEGIN:DAYLIGHT
TZOFFSETFROM:-0800
TZOFFSETTO:-0700
TZNAME:PDT
DTSTART:20200308T100000
END:DAYLIGHT
BEGIN:STANDARD
TZOFFSETFROM:-0700
TZOFFSETTO:-0800
TZNAME:PST
DTSTART:20201101T090000
END:STANDARD
END:VTIMEZONE
BEGIN:VEVENT
DTSTART;VALUE=DATE:20191108
DTEND;VALUE=DATE:20191109
DTSTAMP:20260422T073529
CREATED:20180608T232038Z
LAST-MODIFIED:20180608T232904Z
UID:5310-1573171200-1573257599@www.sd42.ca
SUMMARY:Non-instructional day
DESCRIPTION:Schools not in session. 
URL:https://www.sd42.ca/upcoming-events/non-instructional-day-6/
CATEGORIES:District Event,Non-Instructional Day,School Calendar
ATTACH;FMTTYPE=image/jpeg:https://www.sd42.ca/assets/media/pro-d-day2-e1475277529115.jpg
END:VEVENT
BEGIN:VEVENT
DTSTART;VALUE=DATE:20191111
DTEND;VALUE=DATE:20191112
DTSTAMP:20260422T073529
CREATED:20180611T170251Z
LAST-MODIFIED:20180611T171151Z
UID:5315-1573430400-1573516799@www.sd42.ca
SUMMARY:Remembrance Day
DESCRIPTION:Schools closed for statutory holiday. 
URL:https://www.sd42.ca/upcoming-events/remembrance-day-4/
CATEGORIES:School Calendar,Statutory Holiday
ATTACH;FMTTYPE=image/jpeg:https://www.sd42.ca/assets/media/remembrance-day-e1475277607112.jpg
END:VEVENT
BEGIN:VEVENT
DTSTART;TZID=America/Vancouver:20191113T183000
DTEND;TZID=America/Vancouver:20191113T203000
DTSTAMP:20260422T073529
CREATED:20191101T161021Z
LAST-MODIFIED:20191101T161604Z
UID:7797-1573669800-1573677000@www.sd42.ca
SUMMARY:Parent Presentation: Technology\, Youth\, & Social Media
DESCRIPTION:Wednesday\, November 13\, 2019\nPitt Meadows Secondary School \n19438  – 116B Avenue\nPitt Meadows \nAn evening of parent education discussing technology\, youth\, and social media with guest speaker Jesse Miller from www.mediatedreality.com \nRegister today on EventBrite
URL:https://www.sd42.ca/upcoming-events/parent-presentation-technology-social/
CATEGORIES:Information Session
END:VEVENT
BEGIN:VEVENT
DTSTART;TZID=America/Vancouver:20191120T180000
DTEND;TZID=America/Vancouver:20191120T210000
DTSTAMP:20260422T073529
CREATED:20190429T172958Z
LAST-MODIFIED:20190429T173023Z
UID:6639-1574272800-1574283600@www.sd42.ca
SUMMARY:Board of Education meeting
DESCRIPTION:District Education Office  \n22225 Brown Avenue\, Maple Ridge \nAgenda packages for public board meetings are posted on the Monday before the meeting at http://www.sd42.ca/board-of-education/board-meeting-agendas/
URL:https://www.sd42.ca/upcoming-events/board-of-education-meeting-36/
CATEGORIES:Board of Education Meeting
END:VEVENT
BEGIN:VEVENT
DTSTART;TZID=America/Vancouver:20191128T190000
DTEND;TZID=America/Vancouver:20191128T210000
DTSTAMP:20260422T073529
CREATED:20190912T192117Z
LAST-MODIFIED:20191128T185235Z
UID:7484-1574967600-1574974800@www.sd42.ca
SUMMARY:District Parent Advisory Council (DPAC) Meeting
DESCRIPTION:Topic: \nParents & New Math Curriculum \nLocation:\nKanaka Creek Elementary \n11120 234a St\, Maple Ridge\, BC\, V2W 1C8
URL:https://www.sd42.ca/upcoming-events/district-parent-advisory-council-dpac-meeting-11/
CATEGORIES:District Event
END:VEVENT
END:VCALENDAR