﻿BEGIN:VCALENDAR
VERSION:2.0
PRODID:-//Maple Ridge - Pitt Meadows School District 42 - ECPv6.15.15//NONSGML v1.0//EN
CALSCALE:GREGORIAN
METHOD:PUBLISH
X-ORIGINAL-URL:https://www.sd42.ca
X-WR-CALDESC:Events for Maple Ridge - Pitt Meadows School District 42
REFRESH-INTERVAL;VALUE=DURATION:PT1H
X-Robots-Tag:noindex
X-PUBLISHED-TTL:PT1H
BEGIN:VTIMEZONE
TZID:America/Vancouver
BEGIN:DAYLIGHT
TZOFFSETFROM:-0800
TZOFFSETTO:-0700
TZNAME:PDT
DTSTART:20180311T100000
END:DAYLIGHT
BEGIN:STANDARD
TZOFFSETFROM:-0700
TZOFFSETTO:-0800
TZNAME:PST
DTSTART:20181104T090000
END:STANDARD
BEGIN:DAYLIGHT
TZOFFSETFROM:-0800
TZOFFSETTO:-0700
TZNAME:PDT
DTSTART:20190310T100000
END:DAYLIGHT
BEGIN:STANDARD
TZOFFSETFROM:-0700
TZOFFSETTO:-0800
TZNAME:PST
DTSTART:20191103T090000
END:STANDARD
BEGIN:DAYLIGHT
TZOFFSETFROM:-0800
TZOFFSETTO:-0700
TZNAME:PDT
DTSTART:20200308T100000
END:DAYLIGHT
BEGIN:STANDARD
TZOFFSETFROM:-0700
TZOFFSETTO:-0800
TZNAME:PST
DTSTART:20201101T090000
END:STANDARD
END:VTIMEZONE
BEGIN:VEVENT
DTSTART;VALUE=DATE:20191014
DTEND;VALUE=DATE:20191015
DTSTAMP:20260421T021554
CREATED:20180608T230140Z
LAST-MODIFIED:20180608T230306Z
UID:5308-1571011200-1571097599@www.sd42.ca
SUMMARY:Thanksgiving Day
DESCRIPTION:Schools closed for statutory holiday. 
URL:https://www.sd42.ca/upcoming-events/thanksgiving-day-4/
CATEGORIES:District Event,Statutory Holiday
ATTACH;FMTTYPE=image/jpeg:https://www.sd42.ca/assets/media/thanksgiving-e1475277328107.jpg
END:VEVENT
BEGIN:VEVENT
DTSTART;TZID=America/Vancouver:20191015T113000
DTEND;TZID=America/Vancouver:20191015T160000
DTSTAMP:20260421T021554
CREATED:20191002T000201Z
LAST-MODIFIED:20191010T152029Z
UID:7610-1571139000-1571155200@www.sd42.ca
SUMMARY:Community Open House: c'usqunela elementary
DESCRIPTION:Join us on Tuesday\, October 15\, 2019 at a community open house to celebrate the opening of our new elementary school\, c’usqunela. \n11:30 am* – 4:00 pm\nTuesday\, October 15\, 2019\nc’usqunela Elementary School (Gym)\n24093 – 104th Avenue\, Maple Ridge \nPlease RSVP to: register@sd42.ca \n  \n* Please note the community open house start time has changed from 1 pm to 11:30 am.
URL:https://www.sd42.ca/upcoming-events/community-house-cusqunela-elementary/
CATEGORIES:Community Event
END:VEVENT
BEGIN:VEVENT
DTSTART;TZID=America/Vancouver:20191016T180000
DTEND;TZID=America/Vancouver:20191016T210000
DTSTAMP:20260421T021554
CREATED:20190429T172655Z
LAST-MODIFIED:20190429T172727Z
UID:6638-1571248800-1571259600@www.sd42.ca
SUMMARY:Board of Education meeting
DESCRIPTION:District Education Office  \n22225 Brown Avenue\, Maple Ridge \nAgenda packages for public board meetings are posted on the Monday before the meeting at http://www.sd42.ca/board-of-education/board-meeting-agendas/
URL:https://www.sd42.ca/upcoming-events/board-of-education-meeting-35/
CATEGORIES:Board of Education Meeting
END:VEVENT
BEGIN:VEVENT
DTSTART;TZID=America/Vancouver:20191022T183000
DTEND;TZID=America/Vancouver:20191022T203000
DTSTAMP:20260421T021554
CREATED:20191003T192305Z
LAST-MODIFIED:20191003T192305Z
UID:7621-1571769000-1571776200@www.sd42.ca
SUMMARY:Forum: Let's Talk About Vaping
DESCRIPTION:Join the Conversation #vapinginfo \n\n7:00 pm – 8:30 pm (Doors open at 6:30 pm)\nOctober 22\, 2019\nPitt Meadows Secondary\n19438-116B Avenue\, Pitt Meadows \nJoin representatives from Youth Planning Table\, Community Network\, Canadian Institute for Substance Use Research and Maple Ridge – Pitt Meadows School District for a dialogue around the growing trend of vaping among our youth and how we can talk to our children about it. \n  \nREGISTER for this FREE event today at Eventbrite:\nhttps://bit.ly/2o3knBX \nDinner will be served. See attached poster for additional details. \n  \n  \nAdditional youth vaping education resources for parents:\n\nThe use of vaping products by youth and young adults is on the rise. To help parents have informed conversations with their children about the health risks of vaping\, Fraser Health\, BC Lung Association and Vancouver Coastal Health have created a package of resources and information. \nYou can download the Vaping Prevention Toolkit free from the BC Lung Association. The toolkit includes a Vaping Product Education for Parents Guide. \nThe guide includes tips on how to start conversations with youth\, potential questions that parents may be asked by their child\, and responses to each question. \nIn addition to this new toolkit\, Fraser Health has online resources on these topics for parents at Fraserhealth.ca: \nVaping products\nTobacco and youth\nSmoking and youth oral health\nSubstance use in children and youth\nCannabis
URL:https://www.sd42.ca/upcoming-events/forum-about-vaping/
CATEGORIES:Community Event
END:VEVENT
BEGIN:VEVENT
DTSTART;TZID=America/Vancouver:20191024T190000
DTEND;TZID=America/Vancouver:20191024T210000
DTSTAMP:20260421T021554
CREATED:20190912T191545Z
LAST-MODIFIED:20190912T191719Z
UID:7483-1571943600-1571950800@www.sd42.ca
SUMMARY:District Parent Advisory Council (DPAC) Meeting
DESCRIPTION:Topic:\nEmergency Preparedness \nLocation: \nAlbion Elementary\n10031 – 240 St.\, Maple Ridge\, BC\, V2W 1G2
URL:https://www.sd42.ca/upcoming-events/district-parent-advisory-council-dpac-meeting-10/
CATEGORIES:District Event
END:VEVENT
BEGIN:VEVENT
DTSTART;VALUE=DATE:20191025
DTEND;VALUE=DATE:20191026
DTSTAMP:20260421T021554
CREATED:20180608T230614Z
LAST-MODIFIED:20180608T231837Z
UID:5309-1571961600-1572047999@www.sd42.ca
SUMMARY:Non-instructional day (province-wide)
DESCRIPTION:Schools not in session. 
URL:https://www.sd42.ca/upcoming-events/non-instructional-day-province-wide-3/
CATEGORIES:District Event,Non-Instructional Day,School Calendar
ATTACH;FMTTYPE=image/jpeg:https://www.sd42.ca/assets/media/pro-d-day2-e1475277529115.jpg
END:VEVENT
END:VCALENDAR