﻿BEGIN:VCALENDAR
VERSION:2.0
PRODID:-//Maple Ridge - Pitt Meadows School District 42 - ECPv6.15.15//NONSGML v1.0//EN
CALSCALE:GREGORIAN
METHOD:PUBLISH
X-ORIGINAL-URL:https://www.sd42.ca
X-WR-CALDESC:Events for Maple Ridge - Pitt Meadows School District 42
REFRESH-INTERVAL;VALUE=DURATION:PT1H
X-Robots-Tag:noindex
X-PUBLISHED-TTL:PT1H
BEGIN:VTIMEZONE
TZID:America/Vancouver
BEGIN:DAYLIGHT
TZOFFSETFROM:-0800
TZOFFSETTO:-0700
TZNAME:PDT
DTSTART:20190310T100000
END:DAYLIGHT
BEGIN:STANDARD
TZOFFSETFROM:-0700
TZOFFSETTO:-0800
TZNAME:PST
DTSTART:20191103T090000
END:STANDARD
BEGIN:DAYLIGHT
TZOFFSETFROM:-0800
TZOFFSETTO:-0700
TZNAME:PDT
DTSTART:20200308T100000
END:DAYLIGHT
BEGIN:STANDARD
TZOFFSETFROM:-0700
TZOFFSETTO:-0800
TZNAME:PST
DTSTART:20201101T090000
END:STANDARD
BEGIN:DAYLIGHT
TZOFFSETFROM:-0800
TZOFFSETTO:-0700
TZNAME:PDT
DTSTART:20210314T100000
END:DAYLIGHT
BEGIN:STANDARD
TZOFFSETFROM:-0700
TZOFFSETTO:-0800
TZNAME:PST
DTSTART:20211107T090000
END:STANDARD
BEGIN:DAYLIGHT
TZOFFSETFROM:-0800
TZOFFSETTO:-0700
TZNAME:PDT
DTSTART:20220313T100000
END:DAYLIGHT
BEGIN:STANDARD
TZOFFSETFROM:-0700
TZOFFSETTO:-0800
TZNAME:PST
DTSTART:20221106T090000
END:STANDARD
END:VTIMEZONE
BEGIN:VEVENT
DTSTART;TZID=America/Vancouver:20201221T080000
DTEND;TZID=America/Vancouver:20210101T170000
DTSTAMP:20260422T213636
CREATED:20200625T185138Z
LAST-MODIFIED:20200625T185300Z
UID:9291-1608537600-1609520400@www.sd42.ca
SUMMARY:Schools close for winter break
DESCRIPTION:Schools not in session. 
URL:https://www.sd42.ca/upcoming-events/schools-close-for-winter-break-3/
CATEGORIES:District Event,Holidays,School Calendar
END:VEVENT
BEGIN:VEVENT
DTSTART;VALUE=DATE:20210104
DTEND;VALUE=DATE:20210105
DTSTAMP:20260422T213636
CREATED:20200625T185449Z
LAST-MODIFIED:20200625T185737Z
UID:9292-1609718400-1609804799@www.sd42.ca
SUMMARY:Schools reopen after the break
DESCRIPTION:Schools reopen after the break.
URL:https://www.sd42.ca/upcoming-events/schools-reopen-after-the-break/
CATEGORIES:District Event,School Calendar
END:VEVENT
BEGIN:VEVENT
DTSTART;VALUE=DATE:20210125
DTEND;VALUE=DATE:20210126
DTSTAMP:20260422T213636
CREATED:20200625T185901Z
LAST-MODIFIED:20200625T185901Z
UID:9293-1611532800-1611619199@www.sd42.ca
SUMMARY:Non-instructional day (district-based)
DESCRIPTION:School not in session. 
URL:https://www.sd42.ca/upcoming-events/instructional-district-based/
CATEGORIES:District Event,Non-Instructional Day,School Calendar
END:VEVENT
END:VCALENDAR