﻿BEGIN:VCALENDAR
VERSION:2.0
PRODID:-//Maple Ridge - Pitt Meadows School District 42 - ECPv6.15.15//NONSGML v1.0//EN
CALSCALE:GREGORIAN
METHOD:PUBLISH
X-WR-CALNAME:Maple Ridge - Pitt Meadows School District 42
X-ORIGINAL-URL:https://www.sd42.ca
X-WR-CALDESC:Events for Maple Ridge - Pitt Meadows School District 42
REFRESH-INTERVAL;VALUE=DURATION:PT1H
X-Robots-Tag:noindex
X-PUBLISHED-TTL:PT1H
BEGIN:VTIMEZONE
TZID:America/Vancouver
BEGIN:DAYLIGHT
TZOFFSETFROM:-0800
TZOFFSETTO:-0700
TZNAME:PDT
DTSTART:20190310T100000
END:DAYLIGHT
BEGIN:STANDARD
TZOFFSETFROM:-0700
TZOFFSETTO:-0800
TZNAME:PST
DTSTART:20191103T090000
END:STANDARD
BEGIN:DAYLIGHT
TZOFFSETFROM:-0800
TZOFFSETTO:-0700
TZNAME:PDT
DTSTART:20200308T100000
END:DAYLIGHT
BEGIN:STANDARD
TZOFFSETFROM:-0700
TZOFFSETTO:-0800
TZNAME:PST
DTSTART:20201101T090000
END:STANDARD
BEGIN:DAYLIGHT
TZOFFSETFROM:-0800
TZOFFSETTO:-0700
TZNAME:PDT
DTSTART:20210314T100000
END:DAYLIGHT
BEGIN:STANDARD
TZOFFSETFROM:-0700
TZOFFSETTO:-0800
TZNAME:PST
DTSTART:20211107T090000
END:STANDARD
END:VTIMEZONE
BEGIN:VEVENT
DTSTART;TZID=America/Vancouver:20200206T120000
DTEND;TZID=America/Vancouver:20200206T120000
DTSTAMP:20260424T133452
CREATED:20200204T182943Z
LAST-MODIFIED:20200206T203222Z
UID:8327-1580990400-1580990400@www.sd42.ca
SUMMARY:Online registration for Late French Immersion OPENS
DESCRIPTION:Registration for Late French  Immersion opens online at 12 pm (noon)\, February 6\, 2020. Registration link: https://forms.office.com/Pages/ResponsePage.aspx?id=Mxgq0Pptfku7Gw497cY0vxD3KuP4hchPkEWhMzn7Z-ZUN1lUNDhQRlo0UktQSzVXRlEyRkNFMjc1RS4u \nThe SD42 Late  French  Immersion  Program is an excellent opportunity for students who want to learn a second language or are looking for a challenge. Students who are currently in Grade 5 are eligible to begin  Late  French  Immersion in September 2020 at Golden Ears Elementary. This two-year elementary program continues either at Maple Ridge Secondary School or Pitt Meadows Secondary. 
URL:https://www.sd42.ca/upcoming-events/online-registration-french-immersion/
CATEGORIES:School Calendar
END:VEVENT
BEGIN:VEVENT
DTSTART;TZID=America/Vancouver:20200206T120000
DTEND;TZID=America/Vancouver:20200206T120000
DTSTAMP:20260424T133452
CREATED:20200204T185229Z
LAST-MODIFIED:20200204T185256Z
UID:8328-1580990400-1580990400@www.sd42.ca
SUMMARY:Online registration for Wheelhouse Program OPENS
DESCRIPTION:Online registration for the Wheelhouse Program opens at 12pm (noon) on February 6\, 2020. Registration link: https://bit.ly/2s2LEqG \nPlease note: Applicants must have completed their small-group interview and submitted a completed intake package prior to registering online. \nFor more information about Wheelhouse and registering for the program\, visit: https://wheelhouse.sd42.ca/ \n 
URL:https://www.sd42.ca/upcoming-events/registration-wheelhouse-program/
CATEGORIES:School Calendar
END:VEVENT
BEGIN:VEVENT
DTSTART;TZID=America/Vancouver:20200206T120000
DTEND;TZID=America/Vancouver:20200206T120000
DTSTAMP:20260424T133452
CREATED:20200204T190513Z
LAST-MODIFIED:20200206T203324Z
UID:8329-1580990400-1580990400@www.sd42.ca
SUMMARY:Online registration for District Cyberschool at Alouette OPENS
DESCRIPTION:Online registration for District Cyberschool at Alouette Elementary opens at 12pm (noon) on February 6\, 2020. Registration Link: https://forms.office.com/Pages/ResponsePage.aspx?id=Mxgq0Pptfku7Gw497cY0vxAZTAqgSyNIoQAd5J8fjOFUQkFaSEM2M0tFQlI2NTZRQzBZN1BDN1k3Uy4u \nLearn more about District Cybershool: https://www.sd42.ca/program/cyberschool/
URL:https://www.sd42.ca/upcoming-events/registration-district-cyberschool/
CATEGORIES:School Calendar
END:VEVENT
BEGIN:VEVENT
DTSTART;VALUE=DATE:20200214
DTEND;VALUE=DATE:20200215
DTSTAMP:20260424T133452
CREATED:20180611T181310Z
LAST-MODIFIED:20180611T181854Z
UID:5321-1581638400-1581724799@www.sd42.ca
SUMMARY:Schools not in session
DESCRIPTION:Schools not in session. 
URL:https://www.sd42.ca/upcoming-events/schools-not-in-session-4/
CATEGORIES:School Calendar
END:VEVENT
END:VCALENDAR