﻿BEGIN:VCALENDAR
VERSION:2.0
PRODID:-//Maple Ridge - Pitt Meadows School District 42 - ECPv6.15.15//NONSGML v1.0//EN
CALSCALE:GREGORIAN
METHOD:PUBLISH
X-ORIGINAL-URL:https://www.sd42.ca
X-WR-CALDESC:Events for Maple Ridge - Pitt Meadows School District 42
REFRESH-INTERVAL;VALUE=DURATION:PT1H
X-Robots-Tag:noindex
X-PUBLISHED-TTL:PT1H
BEGIN:VTIMEZONE
TZID:America/Vancouver
BEGIN:DAYLIGHT
TZOFFSETFROM:-0800
TZOFFSETTO:-0700
TZNAME:PDT
DTSTART:20180311T100000
END:DAYLIGHT
BEGIN:STANDARD
TZOFFSETFROM:-0700
TZOFFSETTO:-0800
TZNAME:PST
DTSTART:20181104T090000
END:STANDARD
BEGIN:DAYLIGHT
TZOFFSETFROM:-0800
TZOFFSETTO:-0700
TZNAME:PDT
DTSTART:20190310T100000
END:DAYLIGHT
BEGIN:STANDARD
TZOFFSETFROM:-0700
TZOFFSETTO:-0800
TZNAME:PST
DTSTART:20191103T090000
END:STANDARD
BEGIN:DAYLIGHT
TZOFFSETFROM:-0800
TZOFFSETTO:-0700
TZNAME:PDT
DTSTART:20200308T100000
END:DAYLIGHT
BEGIN:STANDARD
TZOFFSETFROM:-0700
TZOFFSETTO:-0800
TZNAME:PST
DTSTART:20201101T090000
END:STANDARD
END:VTIMEZONE
BEGIN:VEVENT
DTSTART;VALUE=DATE:20190401
DTEND;VALUE=DATE:20190402
DTSTAMP:20260425T210719
CREATED:20180528T185607Z
LAST-MODIFIED:20180528T190250Z
UID:5242-1554076800-1554163199@www.sd42.ca
SUMMARY:Schools reopen after break
DESCRIPTION:Schools reopen after break.
URL:https://www.sd42.ca/upcoming-events/schools-reopen-after-break/
CATEGORIES:School Calendar
END:VEVENT
BEGIN:VEVENT
DTSTART;VALUE=DATE:20190419
DTEND;VALUE=DATE:20190420
DTSTAMP:20260425T210719
CREATED:20180516T172039Z
LAST-MODIFIED:20180516T172120Z
UID:5162-1555632000-1555718399@www.sd42.ca
SUMMARY:Good Friday
DESCRIPTION:Schools closed for statutory holiday. 
URL:https://www.sd42.ca/upcoming-events/good-friday-3/
CATEGORIES:School Calendar,Statutory Holiday
END:VEVENT
BEGIN:VEVENT
DTSTART;VALUE=DATE:20190422
DTEND;VALUE=DATE:20190423
DTSTAMP:20260425T210719
CREATED:20180516T172758Z
LAST-MODIFIED:20190422T173434Z
UID:5163-1555891200-1555977599@www.sd42.ca
SUMMARY:Easter Monday
DESCRIPTION:Schools closed.
URL:https://www.sd42.ca/upcoming-events/easter-monday-3/
CATEGORIES:School Calendar,Statutory Holiday
END:VEVENT
BEGIN:VEVENT
DTSTART;VALUE=DATE:20190429
DTEND;VALUE=DATE:20190430
DTSTAMP:20260425T210719
CREATED:20180516T173011Z
LAST-MODIFIED:20180516T173633Z
UID:5164-1556496000-1556582399@www.sd42.ca
SUMMARY:Non-instructional day (district)
DESCRIPTION:Schools not in session. 
URL:https://www.sd42.ca/upcoming-events/non-instructional-day-district-3/
CATEGORIES:Non-Instructional Day,School Calendar
ATTACH;FMTTYPE=image/jpeg:https://www.sd42.ca/assets/media/pro-d-day2-e1475277529115.jpg
END:VEVENT
END:VCALENDAR